BEGIN:VCALENDAR
VERSION:2.0
PRODID:-//https://www.faithvictoria.org.au///NONSGML kigkonsult.se iCalcreator 2.10.15//
METHOD:PUBLISH
BEGIN:VEVENT
UID:20260423T030419UTC-54601aiFeV@https://www.faithvictoria.org.au/
DTSTAMP:20260423T030419Z
DESCRIPTION: \nMonash City Council in partnership with the Monash Interfait
 h Gathering is pleased to invite you to an Interfaith Forum on the recent 
 report: “Freedom of Religion in Australia in the 21st Century”by Rev Dr Ga
 ry D Bouma\, Emeritus Professor of Sociology at Monash University and a co
 -author of the reportDate: Wednesday\, 7 September 2011  Time: 7.00 pm – 9
 .00 pmLight supper includedLocation: Clayton Theatrette\, Clayton Communit
 y Centre\, Cooke Street\, Clayton (Corner Cooke St. & Centre Rd)RSVP by 5 
 September to Michelle Miller on 9518 3649\, TTY 95183655 or email michelle
 m@monash.vic.gov.au. Also advise Michelle of any other requirements.\nClic
 k here to view flyer\nThis event is supported by the Victorian Multicultur
 al Commission https://www.faithvictoria.org.au/upcoming-events/event/285-f
 reedom-of-religion-in-australia-in-the-21st-century
DTSTART:20110907T190000Z
DTEND:20110907T210000Z
LOCATION:JEvents ()
SUMMARY:Freedom of Religion in Australia in the 21st Century
URL:https://www.faithvictoria.org.au/upcoming-events/event/285-freedom-of-r
 eligion-in-australia-in-the-21st-century
END:VEVENT
END:VCALENDAR
