BEGIN:VCALENDAR
VERSION:2.0
PRODID:-//https://www.faithvictoria.org.au///NONSGML kigkonsult.se iCalcreator 2.10.15//
METHOD:PUBLISH
BEGIN:VEVENT
UID:20260423T121313UTC-60381CJx18@https://www.faithvictoria.org.au/
DTSTAMP:20260423T121313Z
DESCRIPTION: \nThe Ambrose Centre for Religious Liberty has invited PROFESS
 OR MARGARET SOMERVILLE AM\, FRSC\, INTERNATIONALLY ACCLAIMED SPEAKER ON TH
 E CASE AGAINST EUTHANASIA to Australia to expand on the case against eutha
 nasia\nMargaret Somerville AM\, FRSC is an Australian/Canadian ethicist an
 d academic. She is the Samuel Gale Professor of Law\, Professor in the Fac
 ulty of Medicine and the Founding Director of the Faculty of Law’s Centre 
 for Medicine\, Ethics and Law at McGill University. From 1963 to 1969\, sh
 e was a registered pharmacist in South Australia\, Victoria\, New Zealand\
 , and New South Wales. After returning to University and receiving her law
  degree she became an attorney for a Sydney law firm.\nIn November 2006\, 
 she gave the annual Massey Lectures on CBC Radio in Canada. The five lectu
 res were published in book form as The Ethical Imagination: Journeys of th
 e Human Spirit. In 1990\, Margaret was made a Member of the Order of Austr
 alia “for service to the law and to bioethics”. In 1991\, she was made a F
 ellow of the Royal Society of Canada. In 2004\, she was awarded UNESCO’s A
 vicenna Prize for Ethics in Science.\nMaster of Ceremonies: General Peter 
 John Cosgrove AC\, MC\, Chancellor ACU\nResponse: RABBI JOHN LEVI AM\nVote
  of Thanks: SIR JAMES GOBBO AC\, CVO\, KStJ\, QC\nClick here to view broch
 ure\n Contact DetailsSee www.ambrosecentre.org.au or call Ted Exell 0418 5
 71 303 https://www.faithvictoria.org.au/upcoming-events/event/306-the-case
 -against-euthanasia
DTSTART:20110705T180000Z
DTEND:20110705T150000Z
LOCATION:CHRIST LECTURE THEATRE AUSTRALIAN CATHOLIC UNIVERSITY - 115 VICTOR
 IA PARADE\, FITZROY (CHRIST LECTURE THEATRE AUSTRALIAN CATHOLIC UNIVERSITY
  - 115 VICTORIA PARADE\, FITZROY)
SUMMARY:The case against Euthanasia
URL:https://www.faithvictoria.org.au/upcoming-events/event/306-the-case-aga
 inst-euthanasia
END:VEVENT
END:VCALENDAR
