BEGIN:VCALENDAR
VERSION:2.0
PRODID:-//https://www.faithvictoria.org.au///NONSGML kigkonsult.se iCalcreator 2.10.15//
METHOD:PUBLISH
BEGIN:VEVENT
UID:20260424T044750UTC-5134pEB3nt@https://www.faithvictoria.org.au/
DTSTAMP:20260424T044750Z
DESCRIPTION: \nVenue - Box Hill Community Arts Centre - 470 Station Street\
 , Box Hill. Time - 2pm - 5pm      Date - 17th July 2011\, Sunday\nA free p
 ublic forum which brings people together from different faiths (from Hindu
 s\, Buddhists\, Sikhs\, Muslims and others) to share how they use the arts
  to express spiritual themes. A wonderful opportunity to learn from the wi
 sdom of each faith tradition through the exploration of dance\, music and 
 poetry.Spirituality through the Arts is presented by Whitehorse Interfaith
  Network. The Whitehorse Interfaith Network is an inclusive community open
  to persons of any faith who believe in building a better world. It is com
 mitted to facilitating understanding\, acceptance\, cooperation and trust 
 within the community in the belief that faith should be a unifying force i
 n all communities. If you are interested to be part of this wonderful even
 t then please RSVP to Helen Papaioannou by 12 July on (03) 9262 6443 or he
 len.papaioannou@whitehorse.vic.gov.au\nCLICK HERE TO VIEW BROCHURE\nPerfor
 mances By :\n\nBUDDHIST Light Singing Group\nHINDU Sankeertana Women’s Gro
 up\n Ismaili MUSLIMS devotional literature\nSIKH Keertan musical compositi
 ons and others.\n\n Contact DetailsRSVP to Helen Papaioannou by 12 July: 9
 262 6443 or helen.papaioannou@whitehorse.vic.gov.au https://www.faithvicto
 ria.org.au/upcoming-events/event/307-spirituality-through-the-arts
DTSTART:20110717T140000Z
DTEND:20110717T170000Z
LOCATION:Box Hill Community Arts Centre - 470 Station Street\, Box Hill. (B
 ox Hill Community Arts Centre - 470 Station Street\, Box Hill.)
SUMMARY:Spirituality through the Arts
URL:https://www.faithvictoria.org.au/upcoming-events/event/307-spirituality
 -through-the-arts
END:VEVENT
END:VCALENDAR
