BEGIN:VCALENDAR
VERSION:2.0
PRODID:-//https://www.faithvictoria.org.au///NONSGML kigkonsult.se iCalcreator 2.10.15//
METHOD:PUBLISH
BEGIN:VEVENT
UID:20260421T101105UTC-9457LmeNd9@https://www.faithvictoria.org.au/
DTSTAMP:20260421T101105Z
DESCRIPTION: \nKeynote Speaker: Professor Gary Bouma\nWhen: Sunday\, Octobe
 r 2nd     Time: 1:30pm - 3:30pm\nWhere: St. Andrews Anglican Church\, Brig
 hton (Corner of New  & Church Streets Brighton\, 3186) - Enter via car par
 k off New  Street\, Brighton\nProfessor Gary D Bouma will present a keynot
 e address on the current debate on Religions in Australian schools\, cover
 ing topics such as:\n- Education about Religions is essential for living a
 nd working in the 21 Century- Current issues on the delivery of Special Re
 ligious Instruction (SRI) in Victorian Schools- Distinguishing between ‘Ed
 ucation about Religion’ and ‘Instruction into Religion’- Future opportunit
 ies for teaching Education about Religions\nBiography of Keynote Speaker: 
 Gary D Bouma is Emeritus Professor of Sociology and UNESCO Chair in Interc
 ultural and Interreligious Relations – Asia Pacific at Monash University a
 nd an Associate Priest in the Anglican Parish of St John’s East Malvern. F
 rom 2006-2010 he was Chair\, Board of Directors for The Parliament of the 
 World’s Religions 2009. His research in the sociology of religion examines
  the management of religious diversity in plural multicultural societies\,
  postmodernity as a context for doing theology\, religion and terror\, rel
 igion and public policy. He is the author of over 20 books. His latest boo
 k is Being Faithful in Diversity: Religions and Social Policy in Multifait
 h Societies (Australasian Theological Forum).\nAbout FCCV: Established in 
 2010\, the Faith Communities Council of Victoria (FCCV) is Victoria’s umbr
 ella multifaith body. FCCV was created to contribute to the harmony of the
  Victorian community by promoting positive relations between people of dif
 ferent faiths and greater public knowledge and mutual understanding of the
  teachings\, customs and practices of Victoria’s diverse faith traditions.
 \nClick here to view brochure\n  https://www.faithvictoria.org.au/upcoming
 -events/event/308-public-forum-on-the-current-debate-on-religion-in-school
 s
DTSTART:20111002T123000Z
DTEND:20111002T140000Z
LOCATION:St. Andrews Anglican Church - Crn New & Church Streets Brighton\, 
 3186 (Enter via car park off New Street) (St. Andrews Anglican Church - Cr
 n New & Church Streets Brighton\, 3186 (Enter via car park off New Street)
 )
SUMMARY:Public Forum on the current debate on Religion in Schools
URL:https://www.faithvictoria.org.au/upcoming-events/event/308-public-forum
 -on-the-current-debate-on-religion-in-schools
END:VEVENT
END:VCALENDAR
