BEGIN:VCALENDAR
VERSION:2.0
PRODID:-//https://www.faithvictoria.org.au///NONSGML kigkonsult.se iCalcreator 2.10.15//
METHOD:PUBLISH
BEGIN:VEVENT
UID:20260420T130845UTC-8385ROrRpz@https://www.faithvictoria.org.au/
DTSTAMP:20260420T130845Z
DESCRIPTION:A Lecture by Reverend Jo Dirk\nLocation: Victoria University - 
 St Albans Campus\, McKechnie Street - Gate No 1 (Reflection Centre - Build
 ing 1L Room L101)Date: Tuesday\, May 10th @ 1pm\nBiography of Reverend Jo 
 Dirk: Father Jo Dirk SSS: (B.A.\, Theol. M.\, Certificate in Spiritual Dir
 ection\, Authorized Celebrant) is a member of the Congregation of the Bles
 sed Sacrament which has pastoral care for St Francis Church\, Lonsdale Str
 eet\, Melbourne. He has spent many years in leadership in the Australian P
 rovince of the Blessed Sacrament Congregation. He has two published books 
 - The Inner Snowy and Sydney Downtown. His background in ecumenism include
 s being past convener of the Melbourne City Churches in Action: his intere
 st in the media includes past board membership of the television company A
 lbert Street Productions\; and in tertiary education being former member o
 f the Council of Yarra Theological Union. More recently he completed the 8
 00 km pilgrim walk to Santiago and facilitated participation in the Intern
 ational E-Conferences on St Paul\, St Luke\, Jesus Christ and Mary in the 
 St Francis Pastoral Centre\, June 2009 and 2010. He has made work related 
 visits to India\, Sri Lanka\, Philippines and Viet Nam and assists the Ger
 man speaking Catholic Community of Melbourne. He enjoys tennis\, bushwalki
 ng and cross country skiing: discovering the sacred through art\, cinema\,
  music\, meditation and spirituality\; affirming our indigenous Australian
 s\; giving tertiary chaplaincy an ethical voice as regards making our plan
 et sustainable for all. He hopes others will find he is all ears and heart
 . https://www.faithvictoria.org.au/upcoming-events/event/335-learning-abou
 t-other-faiths-so-we-can-live-with-each-other
DTSTART:20110510T130000Z
DTEND:20110510T150000Z
LOCATION:JEvents ()
SUMMARY:Learning about other faiths so we can live with each other
URL:https://www.faithvictoria.org.au/upcoming-events/event/335-learning-abo
 ut-other-faiths-so-we-can-live-with-each-other
END:VEVENT
END:VCALENDAR
