BEGIN:VCALENDAR
VERSION:2.0
PRODID:-//https://www.faithvictoria.org.au///NONSGML kigkonsult.se iCalcreator 2.10.15//
METHOD:PUBLISH
BEGIN:VEVENT
UID:20260423T173117UTC-7689U4Avbu@https://www.faithvictoria.org.au/
DTSTAMP:20260423T173117Z
DESCRIPTION:Date: Saturday\, 2 July 2011   Time:10am-3pm\nLocation: Janssen
  Spirituality Centre\, 22 Woodvale Road Boronia Victoria 3155\nContrary to
  caricatures in the press\, Islam\, like Christianity\, is a religion of p
 eace.  A Christian will take a close look at Islam and highlight the point
 s which Christianity and Islam share in common.  Significant differences w
 ill also be noted.\nDr Stewart Sharlow is a member of the Melbourne Cathol
 ic Interfaith Committee and is recognized in the Christian and Muslim comm
 unities for his interfaith and cross-cultural work.  He is a recipient of 
 a  number of intercultural awards\, including an award from the Victorian 
 Multicultural Commission. (Suggested Donation:  $35\;  Concession: $26)  B
 YO lunch\; Booking in advance recommended.Contact DetailsTel: (03) 9762 66
 25  or Email: programmes@janssencentre.org https://www.faithvictoria.org.a
 u/upcoming-events/event/338-10-things-every-christian-should-know-about-is
 lam-sufi-mysticism
DTSTART:20110702T100000Z
DTEND:20110702T150000Z
LOCATION:Janssen Spirituality Centre\, 22 Woodvale Road Boronia Victoria 31
 55 (Janssen Spirituality Centre\, 22 Woodvale Road Boronia Victoria 3155)
SUMMARY:10 Things every Christian should know about Islam & Sufi Mysticism
URL:https://www.faithvictoria.org.au/upcoming-events/event/338-10-things-ev
 ery-christian-should-know-about-islam-sufi-mysticism
END:VEVENT
END:VCALENDAR
