BEGIN:VCALENDAR
VERSION:2.0
PRODID:-//https://www.faithvictoria.org.au///NONSGML kigkonsult.se iCalcreator 2.10.15//
METHOD:PUBLISH
BEGIN:VEVENT
UID:20260424T000032UTC-2806HCE8wz@https://www.faithvictoria.org.au/
DTSTAMP:20260424T000032Z
DESCRIPTION: \nDo Bills of Rights Protect or Endanger Religious Freedom: Th
 e American Constitutional ExperienceDate: Thu 14/07/2011    Time: 6:30 PM 
 - 7:30 PM\nVenue:    Melbourne Law School - 185 Pelham street Carlton\nSpe
 aker: Professor John Witte\, Emory University.\nDescription: The Sir Georg
 e Turner Lecture: Professor John Witte\, “Do Bills of Rights Protect or En
 danger Religious Freedom: The American Constitutional Experience” In the r
 ecent national debate over Bills of Rights many religious groups argued th
 at religious freedom would be threatened by formal rights protection. In t
 his public lecture\, Professor John Witte will argue that the American exp
 eriences demonstrates that constitutional protection of religious freedom 
 can be a benefit to religion. Professor Witte is director of the Centre fo
 r the Study of Law and Religion at Emory University and one of the world's
  foremost scholars of religious freedom.\nContact/Registration:   click he
 re to register online https://www.faithvictoria.org.au/upcoming-events/eve
 nt/339-do-bills-of-rights-protect-or-endanger-religious-freedom
DTSTART:20110714T183000Z
DTEND:20110714T193000Z
LOCATION:Venue: Melbourne Law School  - 185 Pelham street Carlton (Venue: M
 elbourne Law School  - 185 Pelham street Carlton)
SUMMARY:Do Bills of Rights Protect or Endanger Religious Freedom
URL:https://www.faithvictoria.org.au/upcoming-events/event/339-do-bills-of-
 rights-protect-or-endanger-religious-freedom
END:VEVENT
END:VCALENDAR
