BEGIN:VCALENDAR
VERSION:2.0
PRODID:-//https://www.faithvictoria.org.au///NONSGML kigkonsult.se iCalcreator 2.10.15//
METHOD:PUBLISH
BEGIN:VEVENT
UID:20260420T055709UTC-25844NRo8J@https://www.faithvictoria.org.au/
DTSTAMP:20260420T055709Z
DESCRIPTION: \nVictorian Interfaith Networks Conference\nDate: Sunday\, 27t
 h  of November 2011 Starting Time: 1pm for 1:30pm start\nLocation: St.kild
 a Town Hall -  99a Carlisle Street St Kilda\nThe Victorian Interfaith Netw
 orks Conference 2011 will be a ‘grass roots’ conference prepared by interf
 aith networks for interfaith networks.\nThe format of the conference will 
 allow time for facilitated discussion on topics of most importance to all 
 interfaith networks and include a keynote address by Professor Gary Bouma 
 on the topic ‘Why should faith communities be involved in interfaith activ
 ity?’\nAlso includes:• Multifaith Youth Forum• ‘Quran Exhibition’ and ‘Vic
 toria’s Places of Worship Exhibition’• Delicious Food\nThe conference will
  be convened by the Manningham Interfaith Network in association with the 
 Mornington Peninsula Interfaith Network\, the Frankston Interfaith Network
 \, Interaction Multifaith Youth Network\, Campfire Film Foundation\, and P
 ort Phillip Interfaith Network.\nRSVP by 15 November and requests for more
  information please contact Garry Nolan on 0408074782 or email at min.gn@b
 igpond.com \nCLICK HERE TO VIEW FLYERContact DetailsGarry Nolan on 0408074
 782 or email at min.gn@bigpond.com https://www.faithvictoria.org.au/upcomi
 ng-events/event/359-victorian-interfaith-networks-conference
DTSTART:20111127T123000Z
DTEND:20111127T140000Z
LOCATION:St. Kilda Town Hall - 99a Carlisle Street St Kilda (St. Kilda Town
  Hall - 99a Carlisle Street St Kilda)
SUMMARY:Victorian Interfaith Networks Conference
URL:https://www.faithvictoria.org.au/upcoming-events/event/359-victorian-in
 terfaith-networks-conference
END:VEVENT
END:VCALENDAR
