BEGIN:VCALENDAR
VERSION:2.0
PRODID:-//https://www.faithvictoria.org.au///NONSGML kigkonsult.se iCalcreator 2.10.15//
METHOD:PUBLISH
BEGIN:VEVENT
UID:20260422T102249UTC-9442TfKD6a@https://www.faithvictoria.org.au/
DTSTAMP:20260422T102249Z
DESCRIPTION: \nAn Interfaith Service and Forum will be held on Sunday 11th 
 of March between 2pm-6pm\, as part of the Warburton Harmony Festival.\nVen
 ue: Main Hall in Upper Yarra Arts Centre\, 3409 Warburton Highway\, Warbur
 ton.\nThe Warburton Harmony Festival will take place in the Yarra Valley o
 ver the Labour Day long weekend\, March 8 - 12.\nWarburton Harmony Festiva
 l is a five day celebration of harmony\, community\, spiritual diversity a
 nd development!\nFor more information please see the website: http://www.h
 armonyfest.org https://www.faithvictoria.org.au/upcoming-events/event/371-
 warburton-harmony-festival
DTSTART:20120311T130000Z
DTEND:20120311T170000Z
LOCATION:JEvents ()
SUMMARY:Warburton Harmony Festival
URL:https://www.faithvictoria.org.au/upcoming-events/event/371-warburton-ha
 rmony-festival
END:VEVENT
END:VCALENDAR
