BEGIN:VCALENDAR
VERSION:2.0
PRODID:-//https://www.faithvictoria.org.au///NONSGML kigkonsult.se iCalcreator 2.10.15//
METHOD:PUBLISH
BEGIN:VEVENT
UID:20260421T231237UTC-9421RUo31m@https://www.faithvictoria.org.au/
DTSTAMP:20260421T231237Z
DESCRIPTION: \nABOUT THE PROGRAMNonviolent Leadership for Interfaith Peaceb
 uilders is a new 8-day residential program designed for young people aged 
 18-30 years from a variety of different faith backgrounds who hold a commo
 n passion to lead their generation towards the goal of a world without vio
 lence\, intolerance and injustice.The program involves two modules in 2012
  and includes supporting participants to engage in a community project dev
 eloped by each participant in his or her individual faith community.PROGRA
 M DATESModule 1: The Inner and Outer Journey of Nonviolent Leadership (5 d
 ay)4.30pm Sunday 29th January  – 4pm Friday 3rd February 2012\nModule 2: T
 he Tool-Kit For Nonviolent Leadership (3 day)9am Wednesday 11th April – 4p
 m Friday 13th April 2012PROGRAM VENUEThe 8 day residential retreat will ta
 ke place at the beautiful and idyllic surrounds of Amberley Retreat and Sp
 irituality Centre on the Yarra River in MELBOURNE where participants will 
 journey into the depths of learning the ways and skills of nonviolent livi
 ng\, leadership\, interfaith work\, community work\, social change\, devel
 oping one's identity\, purpose and sense of belonging and self-care.The pr
 ogram highlights includes 8 days with highly experienced facilitators and 
 a project team with a passion for cultivating the nonviolent leadership po
 tential of each participant.PROGRAM COSTSSuccessful applicants will have a
 ll their expenses covered (excl. travel). Participants must be willing to 
 fully commit to the course and come with readiness to engage in changing t
 hemselves in order to change the world.  This project is supported by fund
 ing from the Australian Government Attorney-General’s Department under its
  Building Community Resilience Grants Program.FOR MORE INFORMATION PLEASE 
 GO TO: WWW.NONVIOLENTINTERFAITHLEADERSHIP.ORGOr contact Simon Reeves on 04
 08 299 981 or email simon.reeves81@gmail.com https://www.faithvictoria.org
 .au/upcoming-events/event/377-nonviolent-leadership-for-interfaith-peacebu
 ilders
DTSTART:20120129T153000Z
DTEND:20120203T140000Z
LOCATION:JEvents ()
SUMMARY:Nonviolent Leadership for Interfaith Peacebuilders
URL:https://www.faithvictoria.org.au/upcoming-events/event/377-nonviolent-l
 eadership-for-interfaith-peacebuilders
END:VEVENT
END:VCALENDAR
