BEGIN:VCALENDAR
VERSION:2.0
PRODID:-//https://www.faithvictoria.org.au///NONSGML kigkonsult.se iCalcreator 2.10.15//
METHOD:PUBLISH
BEGIN:VEVENT
UID:20260421T231318UTC-7364GXLVpT@https://www.faithvictoria.org.au/
DTSTAMP:20260421T231318Z
DESCRIPTION: \nABOUT THE PROGRAMNonviolent Leadership for Interfaith  Peace
 builders is a new 8-day residential program designed for young  people age
 d 18-30 years from a variety of different faith backgrounds  who hold a co
 mmon passion to lead their generation towards the goal of a  world without
  violence\, intolerance and injustice.The program  involves two modules in
  2012 and includes supporting participants to  engage in a community proje
 ct developed by each participant in his or  her individual faith community
 .PROGRAM DATESModule 1: The Inner and Outer Journey of Nonviolent Leadersh
 ip (5 day)4.30pm Sunday 29th January  – 4pm Friday 3rd February 2012\nModu
 le 2: The Tool-Kit For Nonviolent Leadership (3 day)9am Wednesday 11th Apr
 il – 4pm Friday 13th April 2012PROGRAM VENUEThe  8 day residential retreat
  will take place at the beautiful and idyllic  surrounds of Amberley Retre
 at and Spirituality Centre on the Yarra River  in MELBOURNE where particip
 ants will journey into the depths of  learning the ways and skills of nonv
 iolent living\, leadership\,  interfaith work\, community work\, social ch
 ange\, developing one's  identity\, purpose and sense of belonging and sel
 f-care.The  program highlights includes 8 days with highly experienced fac
 ilitators  and a project team with a passion for cultivating the nonviolen
 t  leadership potential of each participant.PROGRAM COSTSSuccessful  appli
 cants will have all their expenses covered (excl. travel).  Participants m
 ust be willing to fully commit to the course and come with  readiness to e
 ngage in changing themselves in order to change the  world.  This project 
 is supported by funding from the Australian  Government Attorney-General’s
  Department under its Building Community  Resilience Grants Program.FOR MO
 RE INFORMATION PLEASE GO TO: WWW.NONVIOLENTINTERFAITHLEADERSHIP.ORGOr cont
 act Simon Reeves on 0408 299 981 or email simon.reeves81@gmail.com https:/
 /www.faithvictoria.org.au/upcoming-events/event/378-nonviolent-leadership-
 for-interfaith-peacebuilders
DTSTART:20120411T090000Z
DTEND:20120413T150000Z
LOCATION:JEvents ()
SUMMARY:Nonviolent Leadership for Interfaith Peacebuilders
URL:https://www.faithvictoria.org.au/upcoming-events/event/378-nonviolent-l
 eadership-for-interfaith-peacebuilders
END:VEVENT
END:VCALENDAR
