BEGIN:VCALENDAR
VERSION:2.0
PRODID:-//https://www.faithvictoria.org.au///NONSGML kigkonsult.se iCalcreator 2.10.15//
METHOD:PUBLISH
BEGIN:VEVENT
UID:20260421T230738UTC-66013KeiaX@https://www.faithvictoria.org.au/
DTSTAMP:20260421T230738Z
DESCRIPTION:Listen · Learn · Lead\nJoin the Multifaith Future Leaders Progr
 am\nAre you a future community leader?  Are you a committed member of a fa
 ith community: Muslim\, Jewish\, Christian\, Hindu\, Buddhist\, Baha’i\, S
 ikh… anything?  Are you a dynamic young person\, around 18 to 26 years? If
  so\, you may be eligible to join the Multifaith Future Leaders Program. P
 articipants begin with a free three-day leadership training workshop. You 
 learn about other faiths\, gain leadership skills and get to participate i
 n fun activities with other young people from different communities.\nWhat
  they say: 'The most valuable asset it left me with is a wide network of i
 ntelligent people from a range of backgrounds… hopefully they will be life
 long friends.” - Heba“We broke down a barrier of fear and misunderstanding
  and found out we had so much in common.” - Krista “I hope there are futur
 e programs so others can engage in an equally rich experience.” - Jarrod\n
 What: A three day residential leadership training workshop followed by reg
 ular contacts with other young leaders from a variety of faiths. All food\
 , accommodation and activities included. Just bring comfortable clothes an
 d enthusiasm.\nWhen: February 11-13 2013\nWhere: You will be bussed to a c
 ampsite about an hour from Melbourne. No cost! This is a free program\nSpo
 nsored by: B'nai B'rith Anti Defamation Commission\, State Government Vict
 oria & Scanlon Foundation\nRegister your interest now: Contact projects@an
 tidef.org.au Or click on the link at www.antidef.org.au  https://www.faith
 victoria.org.au/upcoming-events/event/379-2013-multifaith-future-leaders-p
 rogram
DTSTART:20130210T230000Z
DTEND:20130213T225959Z
LOCATION:JEvents ()
SUMMARY:2013 Multifaith Future Leaders Program
URL:https://www.faithvictoria.org.au/upcoming-events/event/379-2013-multifa
 ith-future-leaders-program
END:VEVENT
END:VCALENDAR
