BEGIN:VCALENDAR
VERSION:2.0
PRODID:-//https://www.faithvictoria.org.au///NONSGML kigkonsult.se iCalcreator 2.10.15//
METHOD:PUBLISH
BEGIN:VEVENT
UID:20260423T195340UTC-0017INWIUA@https://www.faithvictoria.org.au/
DTSTAMP:20260423T195340Z
DESCRIPTION: \nJCMA Women’s Committee Invites you to a fund raising IFTAR D
 INNER\nDate: Sunday August 28th 2011  Time: 5.00 pm for 5.30pm start\nPlac
 e: Richmond Town Hall\, 333 Bridge Road\, Richmond\nCost: $35 per person o
 r Family $100 (incl. 2 children under 12 yrs.) Student concession$25.00\nP
 ROCEEDS TO: JCMA & Tents 4 Peace\nBOOKINGS: JCMA: FAYE: fayehd@gmail.com /
  0400 344 101 Tents 4 Peace: FAZILA: fazilatasmim@hotmail.com / 0402 841 0
 02. You can now also book online at www.jcma.org.au\nAll food Hallal\; Kos
 her food on prior request\nPAYMENT TO: Helen Heath (Executive Officer\, JC
 MA) JCMA Office PO Box 598\, Melbourne\, Vic\, 3001 CHEQUES made payable t
 o: JCMA OR EFT to: BSB 083 170\, Account 580 969 036 Email payment details
  to events@jcma.org.au Please specify: “Iftar Dinner”\, names and number o
 f guests\nWhat is an IFTAR dinner? Each day of the Muslim month of Ramadan
 \, Muslims fast from sunrise to sunset. Each evening the fast is broken wi
 th an IFTAR dinner\, which guests are invited to share.\nAbout JCMA: The J
 ewish Christian Muslim Association (JCMA)\, founded in 2003\, is committed
  to the promotion of understanding\, mutual respect and peaceful relations
  among the members of our faith communities. We are unswerving in our supp
 ort of the democratic values that underpin such relations in Australia and
  in other democratic countries. These values include the defence of indivi
 dual human rights\, effective systems of justice\, freedom of religion\, f
 reedom of expression and existence of political structures that ensure tha
 t governments rule with the consent of the governed. JCMA run two resident
 ial conferences each year\, one of which is for women only\, a schools pro
 gram to introduce primary and secondary school students to the three faith
 s\, and a variety of interfaith events.\nAbout Tents 4 Peace International
  Inc: a non-profit registered organisation founded by Australians Anna Cro
 tty\, and Fazila Tasmim-Hajeb. Fazila\, an Afghanistan native who has live
 d in Australia for 22 years\, is very passionate about helping widows and 
 children of Afghanistan\, particularly widows who lost everything during t
 he past 30 years of civil war especially during the government of Taliban.
  In 2006\, the group raised $150\,000 to build a tent- orphanage for Afgha
 ni refugees. The orphanage can shelter 120 children. They continue to rais
 e money to build their own orphanage on land provided by the Afghan Govern
 ment and require ongoing sponsorship for these children. They also raise f
 unds to provider coal\, shelter and heat in advance of each year’s winter.
 \nSEE BROCHURE FOR MORE INFORMATION\n Contact DetailsJCMA: FAYE - fayehd@g
 mail.com / 0400 344 101  OR Tents 4 Peace: FAZILA - fazilatasmim@hotmail.c
 om / 0402 841 002 https://www.faithvictoria.org.au/upcoming-events/event/3
 8-jcma-womens-iftar-dinner
DTSTART:20110828T170000Z
DTEND:20110828T150000Z
LOCATION:Richmond Town Hall\, 333 Bridge Road\, Richmond (Richmond Town Hal
 l\, 333 Bridge Road\, Richmond)
SUMMARY:JCMA Women's Iftar Dinner
URL:https://www.faithvictoria.org.au/upcoming-events/event/38-jcma-womens-i
 ftar-dinner
END:VEVENT
END:VCALENDAR
