BEGIN:VCALENDAR
VERSION:2.0
PRODID:-//https://www.faithvictoria.org.au///NONSGML kigkonsult.se iCalcreator 2.10.15//
METHOD:PUBLISH
BEGIN:VEVENT
UID:20260421T231415UTC-4270FX75Uj@https://www.faithvictoria.org.au/
DTSTAMP:20260421T231415Z
DESCRIPTION:\nExploring life styles\, family values\,  dietary requirements
  and dress codes of main faith traditions. Prayer times observed. Dress co
 de: modest\, shawls used. Only vegetarian food served\, according to Koshe
 r\, Halal and Jain diet. Dishes suit Kosher diet on request.\nLocation:  C
 omfort Resort (Alzburg) 39 Malcolm Street Mansfield Victoria 3722Dates: Fr
 iday 23rd 5.00pm - Sunday\, 25th November 2012 2.00pm  \nSchedule: Friday5
 .00pm  Arrival 8.10pm  Shabbat dinner with prayers (Jewish)\nSaturday7.00a
 m  Guided Meditation (Buddhist)8.00am  Breakfast10.00am  Talking about dre
 ss code and dietary requirements12.30pm  Lunch1.30pm   Communal singing (o
 ptional)2.30pm   Resting3.45pm  Refreshments4.00pm  Walking5.00pm  Watchin
 g the High Country Live Traditions Festival 20128.10pm  Dinner at Tandori 
 Restaurant (suits all dietary requirements)10.00pm  Resting – lights off\n
 Sunday7.00am  Guided Meditation (Hindu)             8.00am  Breakfast10.00
 am  Talking about life style and family values\, communal singing (optiona
 l)12.30pm  Lunch1.30pm  Resting2.30pm  Checking out3.00pm  Participation i
 n the Victorian Shared Values Symposium 2012: Non-violence5.30pm  Departur
 e\nThis is the First Interfaith Live-in Weekend organised in the Victorian
  High Country. It is an explorative event\, which will help creating a mod
 el\, with recommendations for future organisers of interfaith live-in week
 ends. The Weekend is co-organised by the Unity in Diversity Inc\, Australi
 an Association for Religious Education (Vic)\, Hindu Foundation of Austral
 ia and Islamic Council of Victoria\, with the support of a large number of
  umbrella organisations of Victorian faith communities\, Victorian and int
 ernational interfaith networks\, educational institutions\, etc. This annu
 al event is a part of the initiative of the Unity in Diversity Inc. to dev
 elop eco-harmony-heritage-culture tourism in the Victorian High Country. h
 ttps://www.faithvictoria.org.au/upcoming-events/event/380-high-country-int
 erfaith-live-in-weekend-2012
DTSTART:20121123T160000Z
DTEND:20121125T130000Z
LOCATION:Comfort Resort (Alzburg) 39 Malcolm Street Mansfield Victoria 3722
  (Comfort Resort (Alzburg) 39 Malcolm Street Mansfield Victoria 3722)
SUMMARY:High Country Interfaith Live-in Weekend 2012
URL:https://www.faithvictoria.org.au/upcoming-events/event/380-high-country
 -interfaith-live-in-weekend-2012
END:VEVENT
END:VCALENDAR
