BEGIN:VCALENDAR
VERSION:2.0
PRODID:-//https://www.faithvictoria.org.au///NONSGML kigkonsult.se iCalcreator 2.10.15//
METHOD:PUBLISH
BEGIN:VEVENT
UID:20260421T231238UTC-02020gVCOP@https://www.faithvictoria.org.au/
DTSTAMP:20260421T231238Z
DESCRIPTION:\nUnity in Diversity invites you to:\nVictorian Interfaith Live
 -in Weekend\nDate: Friday 18th October 6.30pm - Sunday 20th October 2013 1
 2.30pm\nLocation: Rosedale House\, 146 Mt Battery Road Mansfield 3722 Vict
 oria Australia\nExpressions of interest for participation are welcome.\nRe
 gistration forms are emailed by request.\nContact: mail@livetraditions.net
    Website: www.livetraditions.net \n\nRetreat Schedule & Information:\nPr
 ayer times of represented faith traditions are observed. Dress code: modes
 t\, shawls used.All food is Kosher\, vegetarian and Halal and dishes are m
 ade Kosher.The registrants are required to actively participate in the ent
 ire program and to observe the time frame.\nFriday:\n\n3.00 pm Checking in
 \n6.30 pm Opening - Bank Room MACE 145 High Street\n7.17 pm Shabbat dinner
  with prayers - Rosedale House (146 Mt Battery Rd) dining room\n\nSaturday
 :\n\n7.00 am Guided Meditation - lounge room\n8.00 am Breakfast - Dining r
 oom\n9.00 am Dress code\, diet\, lifestyle - chatting - lounge room\n12.30
  pm Lunch - dining room\n1.30 pm Resting\n2.30 pm Symbolism of holidays\, 
 environmental considerations - chatting - lounge room\n4.00 pm Refreshment
 s - dining room\n5.00 pm High Country Folk Show - Mansfield Performing Art
 s Centre\n6.30 pm Dinner: catered in the foyer - Mansfield Performing Arts
  Centre\n7.00 pm High Country Classic Concert - Mansfield Performing Arts 
 Centre\n10.00 pm Lights off\n\nSunday\n\n7.00 am Guided meditation - loung
 e room\n8.00 am Breakfast - dining room\n10.15 am Multi-faith instrumental
  music - lounge room\n12.00 pm Lunch\n1.00 pm Checking out\n1.15 pm High C
 ountry Sustainability-Wellbeing Expo - Sporting Complex (35A&B Highett Str
 eet)\n3.00 pm 9th Victorian Shared Values Symposium: Living Lovingly - Ban
 k Room MACE\n5.00 pm Refreshments\n5.20 pm Closing\nContact DetailsContact
 : mail@livetraditions.net https://www.faithvictoria.org.au/upcoming-events
 /event/382-victorian-interfaith-live-in-weekend-unity-in-diversity
DTSTART:20131018T173000Z
DTEND:20131020T113000Z
LOCATION:Rosedale House\, 146 Mt Battery Road Mansfield 3722 Victoria Austr
 alia (Rosedale House\, 146 Mt Battery Road Mansfield 3722 Victoria Austral
 ia)
SUMMARY:Victorian Interfaith Live-in Weekend: Unity in Diversity
URL:https://www.faithvictoria.org.au/upcoming-events/event/382-victorian-in
 terfaith-live-in-weekend-unity-in-diversity
END:VEVENT
END:VCALENDAR
