BEGIN:VCALENDAR
VERSION:2.0
PRODID:-//https://www.faithvictoria.org.au///NONSGML kigkonsult.se iCalcreator 2.10.15//
METHOD:PUBLISH
BEGIN:VEVENT
UID:20260421T231103UTC-2198c0Ao75@https://www.faithvictoria.org.au/
DTSTAMP:20260421T231103Z
DESCRIPTION:\nB’nai B’rith Anti Defamation Commission invites you to join t
 he:\nMultifaith Future Leaders Program\nWhat? When? Where?What: A three da
 y residential leadership training workshop followed by regular contact wit
 h other young leaders from a variety of faiths. All food\, accommodation a
 nd activities included. Just bring comfortable clothes and enthusiasm.When
 : Monday 17th to Wednesday 19th February 2014.Where: You will be bussed to
  a campsite about an hour from central Melbourne.\nRegistrationApply onlin
 e: www.antidef.org.au or contact projects@antidef.org.au or ring (03) 9272
 5677\nAre you a future leader?\n\nAre you a member of a faith or tradition
  - Muslim\, Jewish\, Christian\, Hindu\, Buddhist\, Sikh...anything?\nAre 
 you a dynamic young person\, approximately 18 to 30 years old\, who sees y
 ourself as a future leader of your community?\nAre you keen to learn leade
 rship skills that will help you become a better leader?\nIf so\, you may b
 e eligible to join the Multifaith Future Leaders Program\n\nFree learning 
 opportunityParticipants begin with a free three-day leadership training wo
 rkshop in February and commit to continuing actvities when they return. Th
 ey join the leadership training activities with other young people from di
 fferent communities and form a network of connections to support each othe
 r in future leadership endeavours.\nA multi-faith environmentA key element
  of the program is the shared involvement of young people from different b
 ackgrounds. Participants learn skills which all communities need and form 
 connections which cross boundaries of the respective communities. The thre
 e day workshop offers a packed program of activities designed to engage pe
 ople of different backgrounds in learning new skills\, exploring commonali
 ties and making meaningful connections. You will learn personal and group 
 skills through activities that engage mind\, body\, heart and spirit. http
 s://www.faithvictoria.org.au/upcoming-events/event/383-multifaith-future-l
 eaders-program-bnai-brith-anti-defamation-commission
DTSTART:20140216T230000Z
DTEND:20140219T225959Z
LOCATION:JEvents ()
SUMMARY:Multifaith Future Leaders Program: B'nai B'rith Anti Defamation Com
 mission
URL:https://www.faithvictoria.org.au/upcoming-events/event/383-multifaith-f
 uture-leaders-program-bnai-brith-anti-defamation-commission
END:VEVENT
END:VCALENDAR
