BEGIN:VCALENDAR
VERSION:2.0
PRODID:-//https://www.faithvictoria.org.au///NONSGML kigkonsult.se iCalcreator 2.10.15//
METHOD:PUBLISH
BEGIN:VEVENT
UID:20260421T231421UTC-2548StxUkj@https://www.faithvictoria.org.au/
DTSTAMP:20260421T231421Z
DESCRIPTION:&nbsp\;\nPace e Bene Australia invites inspiring young people t
 o apply for a:\nNonviolent Interfaith Leadership Retreat\nDate: 6th – 11th
  April 2014\nLocation: ‘Amberley’ – Edmund Rice Centre\, 7 Amberley Way\, 
 Lower Plenty Victoria\nThere are many inspiring young people actively invo
 lved in community organisations and faith communities across Australia\, w
 ho are working tirelessly to address our current social\, political\, mili
 tary\, economic and ecological challenges. This program is designed to cul
 tivate and build capacity in these young leaders to sustain change\, go de
 eper and to bring people together. This program was developed two years ag
 o and is again open next year as a 5-day residential retreat for 20 young 
 people.&nbsp\; It is an outstanding program\, one not to be missed and wil
 l greatly benefit both the participants and their organisations or faith c
 ommunities from which they belong.\nParticipants will gain :\n\nA deeper c
 ommitment to living and working from an interfaith perspective\;\nKnowledg
 e\, skills and awareness of nonviolence\nLeadership skills to help their l
 ocal communities take action\nThe necessary skills to sustain their nonvio
 lent community leadership\nNew friends and new networks of support and enc
 ouragement\n\nApplications: Round 2 applications open now. We would love t
 o hear from applicants by NO LATER THAN Friday 14th March 2014. To apply o
 nline click here\nFor more information on venue\, costs\, content and cour
 se material see: www.nonviolentinterfaithleadership.org https://www.faithv
 ictoria.org.au/upcoming-events/event/384-nonviolent-youth-interfaith-leade
 rship-retreat-pace-e-bene-australia
DTSTART:20140405T230000Z
DTEND:20140411T235959Z
LOCATION:'Amberley' - Edmund Rice Centre\, 7 Amberley Way\, Lower Plenty Vi
 ctoria (7 Amberley Way\, Lower Plenty VIC 3093\, Australia)
SUMMARY:Nonviolent Youth Interfaith Leadership Retreat: Pace e Bene Austral
 ia
URL:https://www.faithvictoria.org.au/upcoming-events/event/384-nonviolent-y
 outh-interfaith-leadership-retreat-pace-e-bene-australia
END:VEVENT
END:VCALENDAR
