BEGIN:VCALENDAR
VERSION:2.0
PRODID:-//https://www.faithvictoria.org.au///NONSGML kigkonsult.se iCalcreator 2.10.15//
METHOD:PUBLISH
BEGIN:VEVENT
UID:20260421T232654UTC-4336iuhKug@https://www.faithvictoria.org.au/
DTSTAMP:20260421T232654Z
DESCRIPTION:\nJCMA Women’s Committee Presents:\nThe Eighth Australian Resid
 ential Women’s Conference\nDate: Sunday 23 February to Tuesday 25 February
  2014Location:  The Edmund Rice Centre\, Amberley -7 Amberley Way\, Lower 
 Plenty 3093  (Melways 21-C12)\nOnline Application: www.Trybooking.com/DEJD
 \nThe JCMA Women’s Conference invites Jewish\, Christian and Muslim women 
 who support the aims and purpose of the Conference to register their inter
 est and to participate in this event. The number of participants is limite
 d to 45 places. A balance of participants from Judaism\, Christianity and 
 Islam will be sought. It is preferred and more beneficial that participant
 s remain in residence for the full Conference which starts 1.00pm Sunday 2
 3 February and concludes 3.00pm Tuesday 25 February 2014.\nRegistration: S
 unday 12.00pm-1.00pm.\nJCMA Women’s Conference Committee seeks a balance o
 f women who are active in their congregations and communities: lay\, clerg
 y\, academics\, tertiary students and those involved in community work.\nT
 ime is set aside for meditation\, reflection and Muslim prayer during the 
 conference. The Program includes:• Women’s Stories\, Reflections & Spiritu
 ality• How women of faith respond to the challenges of life• How women of 
 faith relate despite differing cultures and religions• Personal experience
 s which portray aspects of: women’s faith and spirituality within their tr
 adition\; their place in their faith\; contemporary life\; and their hopes
  for the future of humanity• Group discussion\, songs\, dance\, art & cult
 ure\nFor costs\, subsidies and more information see: www.jcma.org.auContac
 t DetailsEmail: womenconference@jcma.org.au  Website: www.jcma.org.au http
 s://www.faithvictoria.org.au/upcoming-events/event/385-the-eighth-australi
 an-residential-womens-conference-jcma-womens-committee
DTSTART:20140222T230000Z
DTEND:20140225T225959Z
LOCATION:Location:  The Edmund Rice Centre\, Amberley -7 Amberley Way\, Low
 er Plenty 3093  (Melways 21-C12) (Location:  The Edmund Rice Centre\, Ambe
 rley -7 Amberley Way\, Lower Plenty 3093  (Melways 21-C12))
SUMMARY:The Eighth Australian Residential Women's Conference: JCMA Womens C
 ommittee
URL:https://www.faithvictoria.org.au/upcoming-events/event/385-the-eighth-a
 ustralian-residential-womens-conference-jcma-womens-committee
END:VEVENT
END:VCALENDAR
