BEGIN:VCALENDAR
VERSION:2.0
PRODID:-//https://www.faithvictoria.org.au///NONSGML kigkonsult.se iCalcreator 2.10.15//
METHOD:PUBLISH
BEGIN:VEVENT
UID:20260422T093438UTC-0883baZ1Ei@https://www.faithvictoria.org.au/
DTSTAMP:20260422T093438Z
DESCRIPTION:\nThe Multifaith Association of South Australia invites you to:
 \n4th Interfaith Symposium\nDate:   September 22\, 2013    Time:  1pm- 7:3
 0pmLocation: Hawke Centre\, UniSA City West Campus North Terrace Adelaide
 \nThe topic of this year is 'Unity in diversity' discussing about the futu
 re of Faiths in a globalised world.\nThe Symposium will be organized in a 
 main discussion\, four different break sessions (everyone might be able to
  attend at least 2 of them)\, an interview session and a closing ceremony.
  Includes guests from both Australia and overseas\, such as Agus Indra Uda
 yana. Tea and a vegetarian dinner will be offered.\nThose who wish to part
 icipate\, registrations are open through the following link:.\nhttps://doc
 s.google.com/spreadsheet/viewform?fromEmail=true&formkey=dEU3MG45N1NKd1NLd
 XU2dEtOa1JYUkE6MA\nor by contacting Gunhild Jonsson: multifaithsa@gmail.co
 m or a.h.: 0402 884 536.\nMore information: see http://www.multifaithsa.or
 g.au/ Contact DetailsGunhild Jonsson: multifaithsa@gmail.com or a.h.: 0402
  884 536. https://www.faithvictoria.org.au/upcoming-events/event/386-inter
 faith-symposium-multifaith-association-of-south-australia
DTSTART:20130922T130000Z
DTEND:20130922T193000Z
LOCATION:Hawke Centre\, UniSA City West Campus North Terrace Adelaide (Hawk
 e Centre\, UniSA City West Campus North Terrace Adelaide)
SUMMARY:Interfaith Symposium: Multifaith Association of South Australia
URL:https://www.faithvictoria.org.au/upcoming-events/event/386-interfaith-s
 ymposium-multifaith-association-of-south-australia
END:VEVENT
END:VCALENDAR
