BEGIN:VCALENDAR
VERSION:2.0
PRODID:-//https://www.faithvictoria.org.au///NONSGML kigkonsult.se iCalcreator 2.10.15//
METHOD:PUBLISH
BEGIN:VEVENT
UID:20260422T092223UTC-9993PX3cUH@https://www.faithvictoria.org.au/
DTSTAMP:20260422T092223Z
DESCRIPTION:\nUnity in Diversity invites you to:\nLiving Lovingly  ~ 9th Vi
 ctorian Shared Values Symposium ~\nDate: Sunday 20th October  Time: 3pm-5p
 mLocation: Bank Room MACE 145 High Street Mansfield 3722 Victoria Australi
 a\nSchedule:3.00 - 5.00 PM ~ A panel of speakers-experts present\, followe
 d by public inputModerator: Dr Nicholas Coleman\n5.30 pm -7.00 pm ~ The mo
 del of the education in shared human values and the model of the interfait
 h live-in weekends\, recommended for utilisation and further development i
 nterfaith networking\nWebsites: www.livetraditions.net and www.unityindive
 rsityinc.info \nContact: mail@livetraditions.netContact Detailsmail@livetr
 aditions.net https://www.faithvictoria.org.au/upcoming-events/event/387-9t
 h-victorian-shared-values-symposium-unity-in-diversity
DTSTART:20131020T140000Z
DTEND:20131020T160000Z
LOCATION:Bank Room MACE 145 High Street Mansfield 3722 Victoria Australia (
 Bank Room MACE 145 High Street Mansfield 3722 Victoria Australia)
SUMMARY:9th Victorian Shared Values Symposium: Unity in Diversity
URL:https://www.faithvictoria.org.au/upcoming-events/event/387-9th-victoria
 n-shared-values-symposium-unity-in-diversity
END:VEVENT
END:VCALENDAR
