BEGIN:VCALENDAR
VERSION:2.0
PRODID:-//https://www.faithvictoria.org.au///NONSGML kigkonsult.se iCalcreator 2.10.15//
METHOD:PUBLISH
BEGIN:VEVENT
UID:20260422T093231UTC-6278Oo6IAK@https://www.faithvictoria.org.au/
DTSTAMP:20260422T093231Z
DESCRIPTION:\nThe Ecumenical and Interfaith Commission invites you to an Ec
 umenical Symposium:\nFaith in the light of Reason -  Reason in the light o
 f Faith\nTime: 2pm – 4pm Sunday October 27\, 2013Location: Mary MacKillop 
 Heritage Centre\, 362 Albert Street\, East Melbourne VIC 3002\nIn the Year
  of Faith\, the Catholic Church has been focusing on the theological virtu
 e of faith\, and on the content of the Christian Faith\, especially as con
 tained in the ecumenical Creeds. In this symposium we will enter into an a
 rea that has been behind many of the divisions within the Christian theolo
 gical tradition: the relationship of Faith and Reason. The speakers will o
 utline the traditional approaches of the communities in which their faith 
 has been formed\, and open up contemporary ways of understanding this rela
 tionship.\nSpeakers:\n\nCallan Ledsham (Catholic)\nNick Mattiske (Lutheran
 )\nColleen Arnold-Moore (Anglican)\nDaniel Bellis (Greek Orthodox)\nChris 
 Mostert (Uniting Church)\n\nFree Admission / RSVP to the EIC office at eic
 @cam.org.au or 0400 978 938.Contact DetailsEIC office: Email: eic@cam.org.
 au or Phone: 0400 978 938. https://www.faithvictoria.org.au/upcoming-event
 s/event/388-faith-in-the-light-of-reason-reason-in-the-light-of-faith-ecum
 enical-and-interfaith-commission
DTSTART:20131027T130000Z
DTEND:20131027T150000Z
LOCATION:Mary MacKillop Heritage Centre\, 362 Albert Street\, East Melbourn
 e VIC 3002 (Mary MacKillop Heritage Centre\, 362 Albert Street\, East Melb
 ourne VIC 3002)
SUMMARY:Faith in the light of Reason-Reason in the light of Faith: Ecumenic
 al and Interfaith Commission 
URL:https://www.faithvictoria.org.au/upcoming-events/event/388-faith-in-the
 -light-of-reason-reason-in-the-light-of-faith-ecumenical-and-interfaith-co
 mmission
END:VEVENT
END:VCALENDAR
