BEGIN:VCALENDAR
VERSION:2.0
PRODID:-//https://www.faithvictoria.org.au///NONSGML kigkonsult.se iCalcreator 2.10.15//
METHOD:PUBLISH
BEGIN:VEVENT
UID:20260422T093124UTC-5221wh953R@https://www.faithvictoria.org.au/
DTSTAMP:20260422T093124Z
DESCRIPTION:\nYou are invited to a Shiva Yoga Interfaith Symposium on:\nFai
 th & Politics: Egypt in Transition by His Excellency Dr Hassan El-Laithy E
 gyptian Ambassador to Australia\nDate: Thursday 27 March\, 2014   Time: 7.
 30pm Location: Shiva Ashram 27 Tower Rd\, Mt Eliza\nIn this special lectur
 e by the Egyptian Ambassador to Australia\, His Excellency Dr Hassan El-La
 ithy will talk about the so-called Arab Spring movement\, why the region i
 s so volatile\, discuss the issues facing his country as well as factors r
 elated to other countries in the region.\nFor a country in the midst of so
 cial\, political and economic upheaval and threats and acts of terrorism\,
  can faith and politics co-exist and help to shape the future of a new\, d
 emocratic Egypt?\nAmbassador El Laithy will also share his heartfelt views
  on why staying connected to the oneness of God\, particularly when transi
 tioning from suffering to a brighter future\, is the ultimate source of fr
 eedom.\nSwami Shankarananda\, spiritual director of Shiva Ashram\, will ho
 st the program and share his thoughts on Interfaith.  Free event. All welc
 ome.  For more information see attached flyer or go to: www.shivayoga.org.
 au/programs/interfaith/2014-lecture https://www.faithvictoria.org.au/upcom
 ing-events/event/389-faith-politics-egypt-in-transition-shiva-yoga-interfa
 ith-symposium
DTSTART:20140327T183000Z
DTEND:20140327T140000Z
LOCATION:Shiva Ashram - 27 Tower Road\, Mount Eliza (Shiva Ashram - 27 Towe
 r Road\, Mount Eliza)
SUMMARY:Faith & Politics - Egypt in Transition:  Shiva Yoga Interfaith Symp
 osium
URL:https://www.faithvictoria.org.au/upcoming-events/event/389-faith-politi
 cs-egypt-in-transition-shiva-yoga-interfaith-symposium
END:VEVENT
END:VCALENDAR
