BEGIN:VCALENDAR
VERSION:2.0
PRODID:-//https://www.faithvictoria.org.au///NONSGML kigkonsult.se iCalcreator 2.10.15//
METHOD:PUBLISH
BEGIN:VEVENT
UID:20260422T170412UTC-4361vZ0SSx@https://www.faithvictoria.org.au/
DTSTAMP:20260422T170412Z
DESCRIPTION: \nAre you a future community leader?\nAre you a committed memb
 er of a faith community- Muslim\, Jewish\, Christian\, Hindu\, Buddhist\, 
 Sikh\, anything?\nAre you a dynamic young person\, around 18 to 26 years a
 nd see yourself as a future leader of your community?\nIf so\, you may be 
 eligible to join the Multifaith Future Leaders Program.\nParticipants begi
 n with a free three-day leadership training workshop and then join a range
  of activities from learningpublic speaking to encountering other faiths t
 o drumming.\nBest of all\, they meet and network with other young people f
 rom different faith communities. Contact Detailsreception@antidef.org.au O
 R go to www.antidef.org.auExtra InfoWhere: No cost! This is a free program
 . All food\, accommodation and activities included. Just bring comfortable
  clothes and enthusiasm. https://www.faithvictoria.org.au/upcoming-events/
 event/4-multifaith-future-leaders-program
DTSTART:20110220T230000Z
DTEND:20110223T225959Z
LOCATION:Campaspe Downs Country Resort\, 1302 Trentham Rd.\, Kyneton about 
 an hour from central Melbourne. (Campaspe Downs Country Resort\, 1302 Tren
 tham Rd.\, Kyneton about an hour from central Melbourne.)
SUMMARY:Multifaith Future Leaders Program
URL:https://www.faithvictoria.org.au/upcoming-events/event/4-multifaith-fut
 ure-leaders-program
END:VEVENT
END:VCALENDAR
