BEGIN:VCALENDAR
VERSION:2.0
PRODID:-//https://www.faithvictoria.org.au///NONSGML kigkonsult.se iCalcreator 2.10.15//
METHOD:PUBLISH
BEGIN:VEVENT
UID:20260421T232321UTC-2025WbmSv4@https://www.faithvictoria.org.au/
DTSTAMP:20260421T232321Z
DESCRIPTION: \nThe Land is Sacred. The Land inspires us. The Land’s  beauty
  and majesty moves us in awe\, wonder and reverence. Yet we often  treat t
 he Land as an object instead of an integral part of ourselves.  ‘Listening
  to the Land’ is an initiative of the Mornington Peninsula  Interfaith Net
 work\, seeking to bring people from all religious and  spiritual backgroun
 ds together to connect or reconnect with the Land and  to be moved to care
  for the Land.\nOur Spring 'Listening to the Land' programme will be  held
  at Arthur's Seat (Wonga) on Saturday 24th September\, 2011. Programme  be
 gins at 11:00am and includes an introductory talk\, walking meditation  an
 d a shared lunch. The walk and meditation will be led  by Gunditjamara Eld
 er\, Uncle Lionel Lauch.\nLook forward to seeing you there – sunshine or r
 ain. The event is by Donation.\nPlease note: BYO Vegetarian food to share 
 after the walk. Look forward to seeing you there – sunshine or rain. The e
 vent is by donation.\nVenue: Wonga Walk - OT Dam\, Arthurs Seat Road\, Art
 hurs Seat\, Mornington Peninsula\nDate: Saturday 24th September 2011Time: 
 11:00am–2pm  (Lunch @ 1pm BYO Vegetarian to share)Cost: By donationMeeting
  Point: Car Park @ Arthurs Seat Road (see flyer)More information: Reverend
  Hans Christiansen 0406 243 783\nClick here to view flyer\n Contact Detail
 sReverend Hans Christiansen 0406 243 783 https://www.faithvictoria.org.au/
 upcoming-events/event/41-listening-to-the-land-arthurs-seat-wonga
DTSTART:20110924T110000Z
DTEND:20110924T140000Z
LOCATION:OT Dam\, Arthurs Seat Road\, Arthurs Seat\, Mornington Peninsula (
 OT Dam\, Arthurs Seat Road\, Arthurs Seat\, Mornington Peninsula)
SUMMARY:Listening to the Land: Arthurs Seat (Wonga)
URL:https://www.faithvictoria.org.au/upcoming-events/event/41-listening-to-
 the-land-arthurs-seat-wonga
END:VEVENT
END:VCALENDAR
