BEGIN:VCALENDAR
VERSION:2.0
PRODID:-//https://www.faithvictoria.org.au///NONSGML kigkonsult.se iCalcreator 2.10.15//
METHOD:PUBLISH
BEGIN:VEVENT
UID:20260422T135840UTC-7253CRnviZ@https://www.faithvictoria.org.au/
DTSTAMP:20260422T135840Z
DESCRIPTION: \nDate: 15th of September 2011    Time: 6:45pm for 7pm start\n
 Location: Council Chambers - Casey Council Magid Drive\, Narre Warren\, Vi
 c 3805 (off Princes Highway\, near Fountain Gate Shopping Centre).\nJoin t
 he members of the Casey Multifaith Network and their guests as they hold t
 heir Annual Gathering.  The program for the evening includes entertainment
  by Buddhist\, Christian and Sikh faiths.  There will be two story-tellers
  for the evening as well. The results for the second annual Essay Competit
 ion sponsored by the network will also be announced on the evening\, along
  with the prize distribution. The essay that secures first position will b
 e read out. Vegetarian light supper will be served. Great opportunity to m
 eet people of diverse faiths and to network with the Casey Community.Conta
 ct DetailsPam Mamouney at pam.mamouney@gmail.com or Naureen Choudhry at na
 ureen75@yahoo.com https://www.faithvictoria.org.au/upcoming-events/event/4
 2-casey-multifaith-network-annual-gathering
DTSTART:20110915T184500Z
DTEND:20110915T150000Z
LOCATION:Casey Council Magid Drive\, Narre Warren\, Vic 3805 (off Princes H
 ighway\, near Fountain Gate Shopping Centre) (Casey Council Magid Drive\, 
 Narre Warren\, Vic 3805 (off Princes Highway\, near Fountain Gate Shopping
  Centre))
SUMMARY:Casey Multifaith Network Annual Gathering
URL:https://www.faithvictoria.org.au/upcoming-events/event/42-casey-multifa
 ith-network-annual-gathering
END:VEVENT
END:VCALENDAR
