BEGIN:VCALENDAR
VERSION:2.0
PRODID:-//https://www.faithvictoria.org.au///NONSGML kigkonsult.se iCalcreator 2.10.15//
METHOD:PUBLISH
BEGIN:VEVENT
UID:20260423T164123UTC-1927wDwAWz@https://www.faithvictoria.org.au/
DTSTAMP:20260423T164123Z
DESCRIPTION:The Land is Sacred. The Land inspires us. The Land’s beauty and
  majesty moves us in awe\, wonder and reverence. Yet we often treat the La
 nd as an object instead of an integral part of ourselves. ‘Listening to th
 e Land’ is an initiative of the Mornington Peninsula Interfaith Network\, 
 seeking to bring people from all religious and spiritual backgrounds toget
 her to connect or reconnect with the Land and to be moved to care for the 
 Land.\nOur third 'Listening to the Land' programme will be held at Tasman 
 Drive @ Rye on Saturday 12th February\, 2010. Programme begins at 11:00am 
 and includes an introductory talk\, walking meditation and a shared lunch 
 at Tasman Drive. The walk and meditation will be led by Gunditjamara Elder
 \, Uncle Lionel Lauch.\nPlease note: BYO Vegetarian food - something you c
 an carry to the beach. Look forward to seeing you there – sunshine or rain
 . The event is free.Venue: Tasman Drive\, Rye (Mornington Peninsula)Date: 
 Saturday 12th February 2010Time: 11:00am–2pm   (Lunch @ 1pm BYO Vegetarian
  to share)Cost: FreeMeeting Point: 16th Beach Parking Lot (see attached br
 ochure) More information: Reverend Hans Christiansen 0406 243 783\nCLICK H
 ERE TO VIEW BROCHUREContact DetailsReverend Hans Christiansen 0406 243 783
  https://www.faithvictoria.org.au/upcoming-events/event/6-listening-to-the
 -land-tasman-drive-rye
DTSTART:20110212T100000Z
DTEND:20110212T130000Z
LOCATION:Tasman Drive\, Rye (Tasman Drive\, Rye)
SUMMARY:Listening to the Land: Tasman Drive\, Rye
URL:https://www.faithvictoria.org.au/upcoming-events/event/6-listening-to-t
 he-land-tasman-drive-rye
END:VEVENT
END:VCALENDAR
